BEGIN:VCALENDAR
VERSION:2.0
PRODID:-//Squarespace Inc/Squarespace 6//v6//EN
BEGIN:VEVENT
UID:60820b487141182139a11030@squarespace.com
DTSTAMP:20210426T224423Z
DTSTART:20210619T010000Z
DTEND:20210619T023000Z
SUMMARY:Panel Discussion | The Doodler: A Closer Look at the Story Behind t
 he Podcast
END:VEVENT
END:VCALENDAR
