BEGIN:VCALENDAR
VERSION:2.0
PRODID:-//Squarespace Inc/Squarespace 6//v6//EN
BEGIN:VEVENT
UID:6082049a60fde83115b2f2aa@squarespace.com
DTSTAMP:20210426T224402Z
DTSTART:20210611T020000Z
DTEND:20210611T023000Z
SUMMARY:Queer Culture Club | Talking Pride With Fred Lopez &amp\; Carolyn W
 ysinger
END:VEVENT
END:VCALENDAR
